BEGIN:VCALENDAR
VERSION:2.0
PRODID:-//Visit Grayson County \ Leitchfield, KY - ECPv6.15.20//NONSGML v1.0//EN
CALSCALE:GREGORIAN
METHOD:PUBLISH
X-WR-CALNAME:Visit Grayson County \ Leitchfield, KY
X-ORIGINAL-URL:https://visitgcky.com
X-WR-CALDESC:Events for Visit Grayson County \ Leitchfield, KY
REFRESH-INTERVAL;VALUE=DURATION:PT1H
X-Robots-Tag:noindex
X-PUBLISHED-TTL:PT1H
BEGIN:VTIMEZONE
TZID:America/Kentucky/Louisville
BEGIN:DAYLIGHT
TZOFFSETFROM:-0500
TZOFFSETTO:-0400
TZNAME:EDT
DTSTART:20240310T070000
END:DAYLIGHT
BEGIN:STANDARD
TZOFFSETFROM:-0400
TZOFFSETTO:-0500
TZNAME:EST
DTSTART:20241103T060000
END:STANDARD
BEGIN:DAYLIGHT
TZOFFSETFROM:-0500
TZOFFSETTO:-0400
TZNAME:EDT
DTSTART:20250309T070000
END:DAYLIGHT
BEGIN:STANDARD
TZOFFSETFROM:-0400
TZOFFSETTO:-0500
TZNAME:EST
DTSTART:20251102T060000
END:STANDARD
BEGIN:DAYLIGHT
TZOFFSETFROM:-0500
TZOFFSETTO:-0400
TZNAME:EDT
DTSTART:20260308T070000
END:DAYLIGHT
BEGIN:STANDARD
TZOFFSETFROM:-0400
TZOFFSETTO:-0500
TZNAME:EST
DTSTART:20261101T060000
END:STANDARD
END:VTIMEZONE
BEGIN:VEVENT
DTSTART;TZID=America/Kentucky/Louisville:20250307T180000
DTEND;TZID=America/Kentucky/Louisville:20250307T210000
DTSTAMP:20260419T090950
CREATED:20231116T165205Z
LAST-MODIFIED:20231116T165227Z
UID:10004705-1741370400-1741381200@visitgcky.com
SUMMARY:WKCC Cruise In
DESCRIPTION:Join the Western Kentucky Car Club on the first Friday evening of each month for an antique car cruise-in! Beginning at 6:00 p.m.\, at the Indian Hills Shopping Center located at 115 Sequoia Drive in Leitchfield\, until everyone is gone!
URL:https://visitgcky.com/event/wkcc-cruise-in-2/2025-03-07/
LOCATION:Indian Hills Shopping Center\, 115 Sequoia Drive\, Leitchfield\, KY\, 42754\, United States
CATEGORIES:City,Tourism
ATTACH;FMTTYPE=image/jpeg:https://visitgcky.com/wp-content/uploads/2023/11/Carshowpic.jpg
END:VEVENT
BEGIN:VEVENT
DTSTART;VALUE=DATE:20250308
DTEND;VALUE=DATE:20250309
DTSTAMP:20260419T090950
CREATED:20250205T163816Z
LAST-MODIFIED:20250205T163816Z
UID:10005042-1741392000-1741478399@visitgcky.com
SUMMARY:The Sound of Small Town America
DESCRIPTION:
URL:https://visitgcky.com/event/the-sound-of-small-town-america/
LOCATION:The Alice Theatre\, 86 Public Square\, Leitchfield\, KY\, 42754\, United States
CATEGORIES:City,Tourism
ATTACH;FMTTYPE=image/jpeg:https://visitgcky.com/wp-content/uploads/2025/02/A-New-Design-8-scaled.jpg
END:VEVENT
BEGIN:VEVENT
DTSTART;TZID=America/Kentucky/Louisville:20250321T180000
DTEND;TZID=America/Kentucky/Louisville:20250321T203000
DTSTAMP:20260419T090950
CREATED:20231116T170759Z
LAST-MODIFIED:20231116T170759Z
UID:10004767-1742580000-1742589000@visitgcky.com
SUMMARY:GC Bluegrass Opry
DESCRIPTION:Grayson Co. Bluegrass Opry has free shows on the 3rd Friday night of each month at 6 PM at 125 East White Oak Street in Leitchfield\, KY.  For additional information on show dates visit our facebook page  https://www.facebook.com/Grayson-County-Bluegrass-Opry-124826100920843        \n \n 
URL:https://visitgcky.com/event/gc-bluegrass-opry-3/2025-03-21/
LOCATION:Old Courthouse\, 125 East Oak Street\, Leitchfield\, KY\, 42754\, United States
CATEGORIES:City,Tourism
ATTACH;FMTTYPE=image/jpeg:https://visitgcky.com/wp-content/uploads/2023/11/Opry.jpg
GEO:37.477697;-86.2929508
X-APPLE-STRUCTURED-LOCATION;VALUE=URI;X-ADDRESS=Old Courthouse 125 East Oak Street Leitchfield KY 42754 United States;X-APPLE-RADIUS=500;X-TITLE=125 East Oak Street:geo:-86.2929508,37.477697
END:VEVENT
BEGIN:VEVENT
DTSTART;TZID=America/Kentucky/Louisville:20250321T190000
DTEND;TZID=America/Kentucky/Louisville:20250321T220000
DTSTAMP:20260419T090950
CREATED:20250320T142833Z
LAST-MODIFIED:20250320T163900Z
UID:10005044-1742583600-1742594400@visitgcky.com
SUMMARY:Alice Theatre- One for the monday\, Two for the Show!
DESCRIPTION:
URL:https://visitgcky.com/event/alice-theatre-one-for-the-monday-two-for-the-show/
LOCATION:The Alice Theatre\, 86 Public Square\, Leitchfield\, KY\, 42754\, United States
CATEGORIES:City,Tourism
ATTACH;FMTTYPE=image/jpeg:https://visitgcky.com/wp-content/uploads/2025/03/alice2.jpg
END:VEVENT
BEGIN:VEVENT
DTSTART;TZID=America/Kentucky/Louisville:20250404T180000
DTEND;TZID=America/Kentucky/Louisville:20250404T210000
DTSTAMP:20260419T090950
CREATED:20231116T165205Z
LAST-MODIFIED:20231116T165227Z
UID:10004706-1743789600-1743800400@visitgcky.com
SUMMARY:WKCC Cruise In
DESCRIPTION:Join the Western Kentucky Car Club on the first Friday evening of each month for an antique car cruise-in! Beginning at 6:00 p.m.\, at the Indian Hills Shopping Center located at 115 Sequoia Drive in Leitchfield\, until everyone is gone!
URL:https://visitgcky.com/event/wkcc-cruise-in-2/2025-04-04/
LOCATION:Indian Hills Shopping Center\, 115 Sequoia Drive\, Leitchfield\, KY\, 42754\, United States
CATEGORIES:City,Tourism
ATTACH;FMTTYPE=image/jpeg:https://visitgcky.com/wp-content/uploads/2023/11/Carshowpic.jpg
END:VEVENT
BEGIN:VEVENT
DTSTART;TZID=America/Kentucky/Louisville:20250405T170000
DTEND;TZID=America/Kentucky/Louisville:20250405T190000
DTSTAMP:20260419T090950
CREATED:20250320T164107Z
LAST-MODIFIED:20250320T164143Z
UID:10005045-1743872400-1743879600@visitgcky.com
SUMMARY:Alice Theatre-Darshwood Comedy Hypnosis
DESCRIPTION:
URL:https://visitgcky.com/event/alice-theatre-darshwood-comedy-hypnosis/
LOCATION:The Alice Theatre\, 86 Public Square\, Leitchfield\, KY\, 42754\, United States
CATEGORIES:City,Tourism
ATTACH;FMTTYPE=image/jpeg:https://visitgcky.com/wp-content/uploads/2025/03/alice3.jpg
END:VEVENT
BEGIN:VEVENT
DTSTART;TZID=America/Kentucky/Louisville:20250418T180000
DTEND;TZID=America/Kentucky/Louisville:20250418T200000
DTSTAMP:20260419T090950
CREATED:20250320T164410Z
LAST-MODIFIED:20250320T164438Z
UID:10005046-1744999200-1745006400@visitgcky.com
SUMMARY:Alice Theatre-Comedy with Paula & John
DESCRIPTION:
URL:https://visitgcky.com/event/alice-theatre-comedy-with-paula-john/
LOCATION:The Alice Theatre\, 86 Public Square\, Leitchfield\, KY\, 42754\, United States
CATEGORIES:City,Tourism
ATTACH;FMTTYPE=image/jpeg:https://visitgcky.com/wp-content/uploads/2025/03/alice4.jpg
END:VEVENT
BEGIN:VEVENT
DTSTART;TZID=America/Kentucky/Louisville:20250418T180000
DTEND;TZID=America/Kentucky/Louisville:20250418T203000
DTSTAMP:20260419T090950
CREATED:20231116T170759Z
LAST-MODIFIED:20231116T170759Z
UID:10004768-1744999200-1745008200@visitgcky.com
SUMMARY:GC Bluegrass Opry
DESCRIPTION:Grayson Co. Bluegrass Opry has free shows on the 3rd Friday night of each month at 6 PM at 125 East White Oak Street in Leitchfield\, KY.  For additional information on show dates visit our facebook page  https://www.facebook.com/Grayson-County-Bluegrass-Opry-124826100920843        \n \n 
URL:https://visitgcky.com/event/gc-bluegrass-opry-3/2025-04-18/
LOCATION:Old Courthouse\, 125 East Oak Street\, Leitchfield\, KY\, 42754\, United States
CATEGORIES:City,Tourism
ATTACH;FMTTYPE=image/jpeg:https://visitgcky.com/wp-content/uploads/2023/11/Opry.jpg
GEO:37.477697;-86.2929508
X-APPLE-STRUCTURED-LOCATION;VALUE=URI;X-ADDRESS=Old Courthouse 125 East Oak Street Leitchfield KY 42754 United States;X-APPLE-RADIUS=500;X-TITLE=125 East Oak Street:geo:-86.2929508,37.477697
END:VEVENT
BEGIN:VEVENT
DTSTART;TZID=America/Kentucky/Louisville:20250419T100000
DTEND;TZID=America/Kentucky/Louisville:20250419T130000
DTSTAMP:20260419T090950
CREATED:20250320T164830Z
LAST-MODIFIED:20250320T164943Z
UID:10005048-1745056800-1745067600@visitgcky.com
SUMMARY:Alice Theatre- The Alice Spring Soiree
DESCRIPTION:
URL:https://visitgcky.com/event/alice-theatre-the-alice-spring-soiree/
LOCATION:The Alice Theatre\, 86 Public Square\, Leitchfield\, KY\, 42754\, United States
CATEGORIES:City,Tourism
ATTACH;FMTTYPE=image/jpeg:https://visitgcky.com/wp-content/uploads/2025/03/alice6.jpg
END:VEVENT
BEGIN:VEVENT
DTSTART;TZID=America/Kentucky/Louisville:20250426T050000
DTEND;TZID=America/Kentucky/Louisville:20250426T190000
DTSTAMP:20260419T090950
CREATED:20250415T184504Z
LAST-MODIFIED:20250415T185341Z
UID:10005052-1745643600-1745694000@visitgcky.com
SUMMARY:Millwood Days Spring Fling
DESCRIPTION:
URL:https://visitgcky.com/event/millwood-days-spring-fling/
LOCATION:KY
CATEGORIES:City,Tourism
ATTACH;FMTTYPE=image/jpeg:https://visitgcky.com/wp-content/uploads/2025/04/millwood-days-spring-fling.jpg
END:VEVENT
BEGIN:VEVENT
DTSTART;TZID=America/Kentucky/Louisville:20250426T170000
DTEND;TZID=America/Kentucky/Louisville:20250426T200000
DTSTAMP:20260419T090950
CREATED:20241219T155620Z
LAST-MODIFIED:20241219T160003Z
UID:10005018-1745686800-1745697600@visitgcky.com
SUMMARY:Black Rock Mafia Car/Truck Cruise In
DESCRIPTION:Black Rock Mafia has a monthly cruise in on the 4th Saturday of every month starting in April and runs through October from 5-8 p.m. at Bailey’s Zip Mart
URL:https://visitgcky.com/event/black-rock-mafia-car-truck-cruise-in/2025-04-26/
LOCATION:Bailey’s Zip Mart\, 6159 Beaver Dam Road\, Millwood\, KY\, 42762\, United States
CATEGORIES:City,Tourism
ATTACH;FMTTYPE=image/jpeg:https://visitgcky.com/wp-content/uploads/2024/12/black-rock-mafia-baileys.jpg
END:VEVENT
BEGIN:VEVENT
DTSTART;TZID=America/Kentucky/Louisville:20250502T180000
DTEND;TZID=America/Kentucky/Louisville:20250502T210000
DTSTAMP:20260419T090950
CREATED:20231116T165205Z
LAST-MODIFIED:20231116T165227Z
UID:10004707-1746208800-1746219600@visitgcky.com
SUMMARY:WKCC Cruise In
DESCRIPTION:Join the Western Kentucky Car Club on the first Friday evening of each month for an antique car cruise-in! Beginning at 6:00 p.m.\, at the Indian Hills Shopping Center located at 115 Sequoia Drive in Leitchfield\, until everyone is gone!
URL:https://visitgcky.com/event/wkcc-cruise-in-2/2025-05-02/
LOCATION:Indian Hills Shopping Center\, 115 Sequoia Drive\, Leitchfield\, KY\, 42754\, United States
CATEGORIES:City,Tourism
ATTACH;FMTTYPE=image/jpeg:https://visitgcky.com/wp-content/uploads/2023/11/Carshowpic.jpg
END:VEVENT
BEGIN:VEVENT
DTSTART;TZID=America/Kentucky/Louisville:20250503T080000
DTEND;TZID=America/Kentucky/Louisville:20250503T170000
DTSTAMP:20260419T090950
CREATED:20241219T152317Z
LAST-MODIFIED:20241219T152319Z
UID:10005006-1746259200-1746291600@visitgcky.com
SUMMARY:16th Annual Plant Fair & Spring Fling
DESCRIPTION:
URL:https://visitgcky.com/event/16th-annual-plant-fair-spring-fling/
LOCATION:Grayson County Extension Office\, Quarry Road\, Leitchfield\, KY\, 42754\, United States
CATEGORIES:City,Tourism
ATTACH;FMTTYPE=image/jpeg:https://visitgcky.com/wp-content/uploads/2024/12/plant-fair.jpg
ORGANIZER;CN="Grayson County Extension Service":MAILTO:ilsa.johnson@leitchfield.org
GEO:37.465036;-86.290478
X-APPLE-STRUCTURED-LOCATION;VALUE=URI;X-ADDRESS=Grayson County Extension Office Quarry Road Leitchfield KY 42754 United States;X-APPLE-RADIUS=500;X-TITLE=Quarry Road:geo:-86.290478,37.465036
END:VEVENT
BEGIN:VEVENT
DTSTART;TZID=America/Kentucky/Louisville:20250509T180000
DTEND;TZID=America/Kentucky/Louisville:20250509T200000
DTSTAMP:20260419T090950
CREATED:20250320T164611Z
LAST-MODIFIED:20250320T164641Z
UID:10005047-1746813600-1746820800@visitgcky.com
SUMMARY:Alice Theatre- Mother's Day Cookie Decorating Class
DESCRIPTION:
URL:https://visitgcky.com/event/alice-theatre-mothers-day-cookie-decorating-class/
LOCATION:The Alice Theatre\, 86 Public Square\, Leitchfield\, KY\, 42754\, United States
CATEGORIES:City,Tourism
ATTACH;FMTTYPE=image/jpeg:https://visitgcky.com/wp-content/uploads/2025/03/alice5.jpg
END:VEVENT
BEGIN:VEVENT
DTSTART;TZID=America/Kentucky/Louisville:20250510T190000
DTEND;TZID=America/Kentucky/Louisville:20250510T210000
DTSTAMP:20260419T090950
CREATED:20250320T165057Z
LAST-MODIFIED:20250320T165057Z
UID:10005049-1746903600-1746910800@visitgcky.com
SUMMARY:Alice Theatre- DVL Las Vegas Experience Musical Act
DESCRIPTION:
URL:https://visitgcky.com/event/alice-theatre-dvl-las-vegas-experience-musical-act/
LOCATION:The Alice Theatre\, 86 Public Square\, Leitchfield\, KY\, 42754\, United States
CATEGORIES:City,Tourism
ATTACH;FMTTYPE=image/jpeg:https://visitgcky.com/wp-content/uploads/2025/03/alice7.jpg
END:VEVENT
BEGIN:VEVENT
DTSTART;TZID=America/Kentucky/Louisville:20250511T110000
DTEND;TZID=America/Kentucky/Louisville:20250511T140000
DTSTAMP:20260419T090950
CREATED:20241218T161812Z
LAST-MODIFIED:20241218T163019Z
UID:10004935-1746961200-1746972000@visitgcky.com
SUMMARY:Rough River Mother's Day Lunch
DESCRIPTION:
URL:https://visitgcky.com/event/clarkson-spring-fest/
LOCATION:KY
CATEGORIES:City,Tourism
ATTACH;FMTTYPE=image/jpeg:https://visitgcky.com/wp-content/uploads/2024/12/mothers-day-lunch.jpg
END:VEVENT
BEGIN:VEVENT
DTSTART;TZID=America/Kentucky/Louisville:20250516T180000
DTEND;TZID=America/Kentucky/Louisville:20250516T203000
DTSTAMP:20260419T090950
CREATED:20231116T170759Z
LAST-MODIFIED:20231116T170759Z
UID:10004769-1747418400-1747427400@visitgcky.com
SUMMARY:GC Bluegrass Opry
DESCRIPTION:Grayson Co. Bluegrass Opry has free shows on the 3rd Friday night of each month at 6 PM at 125 East White Oak Street in Leitchfield\, KY.  For additional information on show dates visit our facebook page  https://www.facebook.com/Grayson-County-Bluegrass-Opry-124826100920843        \n \n 
URL:https://visitgcky.com/event/gc-bluegrass-opry-3/2025-05-16/
LOCATION:Old Courthouse\, 125 East Oak Street\, Leitchfield\, KY\, 42754\, United States
CATEGORIES:City,Tourism
ATTACH;FMTTYPE=image/jpeg:https://visitgcky.com/wp-content/uploads/2023/11/Opry.jpg
GEO:37.477697;-86.2929508
X-APPLE-STRUCTURED-LOCATION;VALUE=URI;X-ADDRESS=Old Courthouse 125 East Oak Street Leitchfield KY 42754 United States;X-APPLE-RADIUS=500;X-TITLE=125 East Oak Street:geo:-86.2929508,37.477697
END:VEVENT
BEGIN:VEVENT
DTSTART;TZID=America/Kentucky/Louisville:20250517T090000
DTEND;TZID=America/Kentucky/Louisville:20250517T170000
DTSTAMP:20260419T090950
CREATED:20231116T171328Z
LAST-MODIFIED:20231116T171350Z
UID:10004812-1747472400-1747501200@visitgcky.com
SUMMARY:GCA Art in the Park
DESCRIPTION:Fine arts & craft show held on May 20th\, at the James Beville City Park.  Art in the Park is a juried fine arts and contemporary crafts show featuring local and regional artists and authors. \nCome stay the day and enjoy a tasty treat from our local food vendors while you shop a variety of styles and mediums of the talented artisans. Free parking\, admission\, activities & music.
URL:https://visitgcky.com/event/gca-art-in-the-park-2/2025-05-17/
LOCATION:James Beville Park\, 810 Nature Trail\, Leitchfield\, KY\, 42754\, United States
CATEGORIES:City,Tourism
ATTACH;FMTTYPE=image/jpeg:https://visitgcky.com/wp-content/uploads/2023/11/art-in-park.jpg
END:VEVENT
BEGIN:VEVENT
DTSTART;TZID=America/Kentucky/Louisville:20250517T100000
DTEND;TZID=America/Kentucky/Louisville:20250517T170000
DTSTAMP:20260419T090950
CREATED:20250224T155024Z
LAST-MODIFIED:20250224T155025Z
UID:10005043-1747476000-1747501200@visitgcky.com
SUMMARY:Jump into Summer Festival
DESCRIPTION:
URL:https://visitgcky.com/event/jump-into-summer-festival/
LOCATION:Grayson County Fairgrounds\, 1414 Brandenburg Road\, Leitchfield\, KY\, 42754\, United States
CATEGORIES:City,Tourism
ATTACH;FMTTYPE=image/jpeg:https://visitgcky.com/wp-content/uploads/2025/02/jump-into-spring.jpg
GEO:37.4971957;-86.2921643
X-APPLE-STRUCTURED-LOCATION;VALUE=URI;X-ADDRESS=Grayson County Fairgrounds 1414 Brandenburg Road Leitchfield KY 42754 United States;X-APPLE-RADIUS=500;X-TITLE=1414 Brandenburg Road:geo:-86.2921643,37.4971957
END:VEVENT
BEGIN:VEVENT
DTSTART;TZID=America/Kentucky/Louisville:20250524T170000
DTEND;TZID=America/Kentucky/Louisville:20250524T200000
DTSTAMP:20260419T090950
CREATED:20241219T155620Z
LAST-MODIFIED:20241219T160003Z
UID:10005019-1748106000-1748116800@visitgcky.com
SUMMARY:Black Rock Mafia Car/Truck Cruise In
DESCRIPTION:Black Rock Mafia has a monthly cruise in on the 4th Saturday of every month starting in April and runs through October from 5-8 p.m. at Bailey’s Zip Mart
URL:https://visitgcky.com/event/black-rock-mafia-car-truck-cruise-in/2025-05-24/
LOCATION:Bailey’s Zip Mart\, 6159 Beaver Dam Road\, Millwood\, KY\, 42762\, United States
CATEGORIES:City,Tourism
ATTACH;FMTTYPE=image/jpeg:https://visitgcky.com/wp-content/uploads/2024/12/black-rock-mafia-baileys.jpg
END:VEVENT
BEGIN:VEVENT
DTSTART;TZID=America/Kentucky/Louisville:20250524T170000
DTEND;TZID=America/Kentucky/Louisville:20250524T200000
DTSTAMP:20260419T090950
CREATED:20250520T180329Z
LAST-MODIFIED:20250520T180329Z
UID:10005063-1748106000-1748116800@visitgcky.com
SUMMARY:Grayson County's Got Talent- Alice Theatre
DESCRIPTION:
URL:https://visitgcky.com/event/grayson-countys-got-talent-alice-theatre/
LOCATION:The Alice Theatre\, 86 Public Square\, Leitchfield\, KY\, 42754\, United States
CATEGORIES:City,Tourism
ATTACH;FMTTYPE=image/jpeg:https://visitgcky.com/wp-content/uploads/2025/05/talent.jpg
END:VEVENT
BEGIN:VEVENT
DTSTART;TZID=America/Kentucky/Louisville:20250524T180000
DTEND;TZID=America/Kentucky/Louisville:20250524T200000
DTSTAMP:20260419T090950
CREATED:20250423T143112Z
LAST-MODIFIED:20250520T181216Z
UID:10005053-1748109600-1748116800@visitgcky.com
SUMMARY:Monster Truck Bash & Oval Track Racing
DESCRIPTION:
URL:https://visitgcky.com/event/monster-truck-bash-oval-track-racing/
LOCATION:Grayson County Fairgrounds\, 1414 Brandenburg Road\, Leitchfield\, KY\, 42754\, United States
CATEGORIES:City,Tourism
ATTACH;FMTTYPE=image/jpeg:https://visitgcky.com/wp-content/uploads/2025/04/fairgrounds-2.jpg
GEO:37.4971957;-86.2921643
X-APPLE-STRUCTURED-LOCATION;VALUE=URI;X-ADDRESS=Grayson County Fairgrounds 1414 Brandenburg Road Leitchfield KY 42754 United States;X-APPLE-RADIUS=500;X-TITLE=1414 Brandenburg Road:geo:-86.2921643,37.4971957
END:VEVENT
BEGIN:VEVENT
DTSTART;TZID=America/Kentucky/Louisville:20250530T193000
DTEND;TZID=America/Kentucky/Louisville:20250530T220000
DTSTAMP:20260419T090950
CREATED:20250425T151232Z
LAST-MODIFIED:20250425T151241Z
UID:10005056-1748633400-1748642400@visitgcky.com
SUMMARY:The Eras Night 21+ at the Alice Theatre
DESCRIPTION:
URL:https://visitgcky.com/event/the-eras-night-21-at-the-alice-theatre/
LOCATION:The Alice Theatre\, 86 Public Square\, Leitchfield\, KY\, 42754\, United States
CATEGORIES:City,Tourism
ATTACH;FMTTYPE=image/jpeg:https://visitgcky.com/wp-content/uploads/2025/04/Eras-Night.jpg
END:VEVENT
BEGIN:VEVENT
DTSTART;TZID=America/Kentucky/Louisville:20250531T090000
DTEND;TZID=America/Kentucky/Louisville:20250531T140000
DTSTAMP:20260419T090950
CREATED:20250423T145616Z
LAST-MODIFIED:20250423T145617Z
UID:10005055-1748682000-1748700000@visitgcky.com
SUMMARY:Black Rock Mafia 5th Annual Car Show
DESCRIPTION:
URL:https://visitgcky.com/event/black-rock-mafia-5th-annual-car-show/
LOCATION:Grayson County Fairgrounds\, 1414 Brandenburg Road\, Leitchfield\, KY\, 42754\, United States
CATEGORIES:City,Tourism
ATTACH;FMTTYPE=image/jpeg:https://visitgcky.com/wp-content/uploads/2025/04/blackrock.jpg
GEO:37.4971957;-86.2921643
X-APPLE-STRUCTURED-LOCATION;VALUE=URI;X-ADDRESS=Grayson County Fairgrounds 1414 Brandenburg Road Leitchfield KY 42754 United States;X-APPLE-RADIUS=500;X-TITLE=1414 Brandenburg Road:geo:-86.2921643,37.4971957
END:VEVENT
BEGIN:VEVENT
DTSTART;TZID=America/Kentucky/Louisville:20250531T100000
DTEND;TZID=America/Kentucky/Louisville:20250531T120000
DTSTAMP:20260419T090950
CREATED:20250520T175058Z
LAST-MODIFIED:20250520T175247Z
UID:10005059-1748685600-1748692800@visitgcky.com
SUMMARY:Alice Theatre-Paw Patrol- 10 am & 12:30 showings
DESCRIPTION:
URL:https://visitgcky.com/event/alice-theatre-paw-patrol/2025-05-31/1/
LOCATION:The Alice Theatre\, 86 Public Square\, Leitchfield\, KY\, 42754\, United States
CATEGORIES:City,Tourism
ATTACH;FMTTYPE=image/jpeg:https://visitgcky.com/wp-content/uploads/2025/05/May-31.jpg
END:VEVENT
BEGIN:VEVENT
DTSTART;TZID=America/Kentucky/Louisville:20250531T123000
DTEND;TZID=America/Kentucky/Louisville:20250531T140000
DTSTAMP:20260419T090950
CREATED:20250520T175058Z
LAST-MODIFIED:20250520T175247Z
UID:10005060-1748694600-1748700000@visitgcky.com
SUMMARY:Alice Theatre-Paw Patrol- 10 am & 12:30 showings
DESCRIPTION:
URL:https://visitgcky.com/event/alice-theatre-paw-patrol/2025-05-31/2/
LOCATION:The Alice Theatre\, 86 Public Square\, Leitchfield\, KY\, 42754\, United States
CATEGORIES:City,Tourism
ATTACH;FMTTYPE=image/jpeg:https://visitgcky.com/wp-content/uploads/2025/05/May-31.jpg
END:VEVENT
BEGIN:VEVENT
DTSTART;TZID=America/Kentucky/Louisville:20250531T170000
DTEND;TZID=America/Kentucky/Louisville:20250531T200000
DTSTAMP:20260419T090950
CREATED:20241218T164630Z
LAST-MODIFIED:20241218T164631Z
UID:10004941-1748710800-1748721600@visitgcky.com
SUMMARY:Black Stone Cherry At Logsdon Valley Park
DESCRIPTION:
URL:https://visitgcky.com/event/black-stone-cherry-at-logsdon-valley-park/
LOCATION:Logsdon Valley Amphitheatre\, 500 Carroll Gibson Blvd\, Leitchfield\, KY\, 42754\, United States
CATEGORIES:City,Tourism
ATTACH;FMTTYPE=image/jpeg:https://visitgcky.com/wp-content/uploads/2024/12/Rock-Night-Flyer-Made-with-PosterMyWall-1.jpg
END:VEVENT
BEGIN:VEVENT
DTSTART;TZID=America/Kentucky/Louisville:20250531T190000
DTEND;TZID=America/Kentucky/Louisville:20250531T210000
DTSTAMP:20260419T090950
CREATED:20250408T164032Z
LAST-MODIFIED:20250408T164043Z
UID:10005050-1748718000-1748725200@visitgcky.com
SUMMARY:Twist of Fate featuring Sherry Sebastian-Alice Theatre
DESCRIPTION:
URL:https://visitgcky.com/event/twist-of-fate-featuring-sherry-sebastian-alice-theatre/
LOCATION:The Alice Theatre\, 86 Public Square\, Leitchfield\, KY\, 42754\, United States
CATEGORIES:City,Tourism
ATTACH;FMTTYPE=image/jpeg:https://visitgcky.com/wp-content/uploads/2025/04/Screenshot-2025-04-08-113758.jpg
END:VEVENT
BEGIN:VEVENT
DTSTART;TZID=America/Kentucky/Louisville:20250605T100000
DTEND;TZID=America/Kentucky/Louisville:20250605T233000
DTSTAMP:20260419T090950
CREATED:20250520T174718Z
LAST-MODIFIED:20250520T174723Z
UID:10005058-1749117600-1749166200@visitgcky.com
SUMMARY:Alice Theatre Thursday Summer Movie Series- Lilo & Stitch
DESCRIPTION:
URL:https://visitgcky.com/event/alice-theatre-thursday-summer-movie-series-lilo-stitch/
LOCATION:The Alice Theatre\, 86 Public Square\, Leitchfield\, KY\, 42754\, United States
CATEGORIES:City,Tourism
ATTACH;FMTTYPE=image/jpeg:https://visitgcky.com/wp-content/uploads/2025/05/June-5th.jpg
END:VEVENT
BEGIN:VEVENT
DTSTART;TZID=America/Kentucky/Louisville:20250606T180000
DTEND;TZID=America/Kentucky/Louisville:20250606T210000
DTSTAMP:20260419T090950
CREATED:20231116T165205Z
LAST-MODIFIED:20231116T165227Z
UID:10004708-1749232800-1749243600@visitgcky.com
SUMMARY:WKCC Cruise In
DESCRIPTION:Join the Western Kentucky Car Club on the first Friday evening of each month for an antique car cruise-in! Beginning at 6:00 p.m.\, at the Indian Hills Shopping Center located at 115 Sequoia Drive in Leitchfield\, until everyone is gone!
URL:https://visitgcky.com/event/wkcc-cruise-in-2/2025-06-06/
LOCATION:Indian Hills Shopping Center\, 115 Sequoia Drive\, Leitchfield\, KY\, 42754\, United States
CATEGORIES:City,Tourism
ATTACH;FMTTYPE=image/jpeg:https://visitgcky.com/wp-content/uploads/2023/11/Carshowpic.jpg
END:VEVENT
END:VCALENDAR